Workbook
Name FRECUENCIA: TABLAS!$B$4:$B$7
Name SEVERIDAD: TABLAS!$C$4:$C$7
Name TIPO: [1]TABLAS!$I$4:$I$6
Name TIPO: [1]TABLAS!$I$4:$I$6
Name TIPO: [1]TABLAS!$I$4:$I$6
Name TIPO: TABLAS!$I$4:$I$6
Name ZONA_DE_RIESGO: TABLAS!$D$4:$D$7

Sheet FORMATO MATRIZ RIESGOS OK
C1: OBJETIVO DEL PROCESO:
A2: PROCESO | B2: CÓDIGO | C2: IDENTIFICACIÓN DE RIESGOS | G2: RIESGO INHERENTE | K2: CONTROLES EXISTENTES (BARRERAS) | L2: DISEÑO DEL CONTROL | V2: EJECUCIÓN DEL CONTROL | W2: RESULTADO DE EVALUACIÓN DE CONTROLES | AE2: CALIFICACIÓN DEL RIESGO DESPUÉS DE CONTROLES | AH2: RIESGO RESIDUAL | AJ2: NIVEL DE RIESGO DEL PROCESO | AK2: PLAN DE TRATAMIENTO DE RIESGOS
C3: RIESGO - DESCRIPCIÓN | D3: TIPO DE RIESGO | E3: CAUSAS | F3: CONSECUENCIAS (IMPACTO) | G3: PROBABILIDAD | H3: IMPACTO | I3: NIVEL DE RIESGO | J3: ZONA DE RIESGO | L3: ASIGNACIÓN DE RESPONSABLE PARA LA EJECUCIÓN DEL CONTROL | M3: SEGREGACIÓN Y AUTORIDAD DEL RESPONSABLE | N3: PERIODICIDAD EN LA EJECUCIÓN | O3: PROPÓSITO DEL CONTROL (DETECTIVO O PREVENTIVO) | P3: COMO SE REALIZA LA ACTIVIDAD DE CONTROL | Q3: QUE PASA CON LAS OBSERVACIONES O DESVIACIONES | R3: EVIDENCIA DE LA EJECUCIÓN DEL CONTROL | S3: SUMATORIA DISEÑO | T3: RESULTADO EVALUACIÓN DEL CONTROL | U3: PESO DEL R/ DISEÑO DEL CONTROL | V3: CALIFICACIÓN DE LA EJECUCIÓN DEL CONTROL FUERTE 100 CONSISTENTE MODERADO: 50 ALGUNAS VECES DÉBIL 0 NO SE EJECUTA | W3: SOLIDEZ INDIVIDUAL DEL CONTROL | X3: REQUIERE ACCIONES DE MEJORA | Y3: SOLIDEZ DEL CONJUNTO DE CONTROLES FUERTE 100 MODERADO 50 A 99 DEBIL MENOR A 50 | Z3: DISMINUYE PROBABILIDAD SI LA SOLIDEZ DE CONJUNTO ES DEBIL NO DOSIMINUYE | AA3: DISMINUYE IMPACTO SI LA SOLIDEZ DE CONJUNTO ES DEBIL NO DOSIMINUYE | AC3: DESPLAZAMIENTO EN EJE DE PROBABILIDAD | AD3: DESPLAZAMIENTO EN EJE DE IMPACTO | AE3: PROBABILIDAD | AF3: IMPACTO | AI3: OPCIÓN DE MANEJO | AK3: ACTIVIDAD DE CONTROL | AL3: SOPORTE | AM3: RESPONSABLE | AN3: TIEMPO / FECHA DE EJECUCIÓN | AO3: INDICADOR
B4: 1 | I4: =CONCATENATE(G4,H4) | J4: =VLOOKUP(I4,REFERENCIAS!$L$12:$M$36,2,FALSE) -> #N/A | S4: =SUM(L4:R4) -> 0 | T4: =CONCATENATE(U4,V4) -> DÉBIL | U4: =IF(S4<86,"DÉBIL",IF(S4<96,"MODERADO","FUERTE")) -> DÉBIL | W4: =VLOOKUP(T4,REFERENCIAS!$R$12:$S$20,2,FALSE) -> #N/A | X4: =IF(W4=100,"NO","SI") -> #N/A | Y4: =IF(AVERAGE(W4:W13)<50,"DÉBIL",IF(AVERAGE(W4:W13)<100,"MODERADO","FUERTE")) -> #N/A | AB4: =CONCATENATE(Y4,Z4,AA4) -> #N/A | AC4: =VLOOKUP(AB4,REFERENCIAS!$X$11:$Z$19,2,FALSE) -> #N/A | AD4: =VLOOKUP(AB4,REFERENCIAS!$X$11:$Z$19,3,FALSE) -> #N/A | AE4: =IF(G4-AC4<1,1,G4-AC4) -> #N/A | AF4: =IF(H4-AD4<1,1,H4-AD4) -> #N/A | AG4: =CONCATENATE(AE4,AF4) -> #N/A | AH4: =VLOOKUP(AG4,REFERENCIAS!$L$12:$M$36,2,FALSE) -> #N/A
S5: =SUM(L5:R5) -> 0 | T5: =CONCATENATE(U5,V5) -> DÉBIL | U5: =IF(S5<86,"DÉBIL",IF(S5<96,"MODERADO","FUERTE")) -> DÉBIL | W5: =VLOOKUP(T5,REFERENCIAS!$R$12:$S$20,2,FALSE) -> #N/A | X5: =IF(W5=100,"NO","SI") -> #N/A
S6: =SUM(L6:R6) -> 0 | T6: =CONCATENATE(U6,V6) -> DÉBIL | U6: =IF(S6<86,"DÉBIL",IF(S6<96,"MODERADO","FUERTE")) -> DÉBIL | W6: =VLOOKUP(T6,REFERENCIAS!$R$12:$S$20,2,FALSE) -> #N/A | X6: =IF(W6=100,"NO","SI") -> #N/A
S7: =SUM(L7:R7) -> 0 | T7: =CONCATENATE(U7,V7) -> DÉBIL | U7: =IF(S7<86,"DÉBIL",IF(S7<96,"MODERADO","FUERTE")) -> DÉBIL | W7: =VLOOKUP(T7,REFERENCIAS!$R$12:$S$20,2,FALSE) -> #N/A | X7: =IF(W7=100,"NO","SI") -> #N/A
S8: =SUM(L8:R8) -> 0 | T8: =CONCATENATE(U8,V8) -> DÉBIL | U8: =IF(S8<86,"DÉBIL",IF(S8<96,"MODERADO","FUERTE")) -> DÉBIL | W8: =VLOOKUP(T8,REFERENCIAS!$R$12:$S$20,2,FALSE) -> #N/A | X8: =IF(W8=100,"NO","SI") -> #N/A
S9: =SUM(L9:R9) -> 0 | T9: =CONCATENATE(U9,V9) -> DÉBIL | U9: =IF(S9<86,"DÉBIL",IF(S9<96,"MODERADO","FUERTE")) -> DÉBIL | W9: =VLOOKUP(T9,REFERENCIAS!$R$12:$S$20,2,FALSE) -> #N/A | X9: =IF(W9=100,"NO","SI") -> #N/A
S10: =SUM(L10:R10) -> 0 | T10: =CONCATENATE(U10,V10) -> DÉBIL | U10: =IF(S10<86,"DÉBIL",IF(S10<96,"MODERADO","FUERTE")) -> DÉBIL | W10: =VLOOKUP(T10,REFERENCIAS!$R$12:$S$20,2,FALSE) -> #N/A | X10: =IF(W10=100,"NO","SI") -> #N/A
S11: =SUM(L11:R11) -> 0 | T11: =CONCATENATE(U11,V11) -> DÉBIL | U11: =IF(S11<86,"DÉBIL",IF(S11<96,"MODERADO","FUERTE")) -> DÉBIL | W11: =VLOOKUP(T11,REFERENCIAS!$R$12:$S$20,2,FALSE) -> #N/A | X11: =IF(W11=100,"NO","SI") -> #N/A
S12: =SUM(L12:R12) -> 0 | T12: =CONCATENATE(U12,V12) -> DÉBIL | U12: =IF(S12<86,"DÉBIL",IF(S12<96,"MODERADO","FUERTE")) -> DÉBIL | W12: =VLOOKUP(T12,REFERENCIAS!$R$12:$S$20,2,FALSE) -> #N/A | X12: =IF(W12=100,"NO","SI") -> #N/A
S13: =SUM(L13:R13) -> 0 | T13: =CONCATENATE(U13,V13) -> DÉBIL | U13: =IF(S13<86,"DÉBIL",IF(S13<96,"MODERADO","FUERTE")) -> DÉBIL | W13: =VLOOKUP(T13,REFERENCIAS!$R$12:$S$20,2,FALSE) -> #N/A | X13: =IF(W13=100,"NO","SI") -> #N/A
B14: 2 | I14: =CONCATENATE(G14,H14) | J14: =VLOOKUP(I14,REFERENCIAS!$L$12:$M$36,2,FALSE) -> #N/A | S14: =SUM(L14:R14) -> 0 | T14: =CONCATENATE(U14,V14) -> DÉBIL | U14: =IF(S14<86,"DÉBIL",IF(S14<96,"MODERADO","FUERTE")) -> DÉBIL | W14: =VLOOKUP(T14,REFERENCIAS!$R$12:$S$20,2,FALSE) -> #N/A | X14: =IF(W14=100,"NO","SI") -> #N/A | Y14: =IF(AVERAGE(W14:W23)<50,"DÉBIL",IF(AVERAGE(W14:W23)<100,"MODERADO","FUERTE")) -> #N/A | AB14: =CONCATENATE(Y14,Z14,AA14) -> #N/A | AC14: =VLOOKUP(AB14,REFERENCIAS!$X$11:$Z$19,2,FALSE) -> #N/A | AD14: =VLOOKUP(AB14,REFERENCIAS!$X$11:$Z$19,3,FALSE) -> #N/A | AE14: =IF(G14-AC14<1,1,G14-AC14) -> #N/A | AF14: =IF(H14-AD14<1,1,H14-AD14) -> #N/A | AG14: =CONCATENATE(AE14,AF14) -> #N/A | AH14: =VLOOKUP(AG14,REFERENCIAS!$L$12:$M$36,2,FALSE) -> #N/A
S15: =SUM(L15:R15) -> 0 | T15: =CONCATENATE(U15,V15) -> DÉBIL | U15: =IF(S15<86,"DÉBIL",IF(S15<96,"MODERADO","FUERTE")) -> DÉBIL | W15: =VLOOKUP(T15,REFERENCIAS!$R$12:$S$20,2,FALSE) -> #N/A | X15: =IF(W15=100,"NO","SI") -> #N/A
S16: =SUM(L16:R16) -> 0 | T16: =CONCATENATE(U16,V16) -> DÉBIL | U16: =IF(S16<86,"DÉBIL",IF(S16<96,"MODERADO","FUERTE")) -> DÉBIL | W16: =VLOOKUP(T16,REFERENCIAS!$R$12:$S$20,2,FALSE) -> #N/A | X16: =IF(W16=100,"NO","SI") -> #N/A
S17: =SUM(L17:R17) -> 0 | T17: =CONCATENATE(U17,V17) -> DÉBIL | U17: =IF(S17<86,"DÉBIL",IF(S17<96,"MODERADO","FUERTE")) -> DÉBIL | W17: =VLOOKUP(T17,REFERENCIAS!$R$12:$S$20,2,FALSE) -> #N/A | X17: =IF(W17=100,"NO","SI") -> #N/A
S18: =SUM(L18:R18) -> 0 | T18: =CONCATENATE(U18,V18) -> DÉBIL | U18: =IF(S18<86,"DÉBIL",IF(S18<96,"MODERADO","FUERTE")) -> DÉBIL | W18: =VLOOKUP(T18,REFERENCIAS!$R$12:$S$20,2,FALSE) -> #N/A | X18: =IF(W18=100,"NO","SI") -> #N/A
S19: =SUM(L19:R19) -> 0 | T19: =CONCATENATE(U19,V19) -> DÉBIL | U19: =IF(S19<86,"DÉBIL",IF(S19<96,"MODERADO","FUERTE")) -> DÉBIL | W19: =VLOOKUP(T19,REFERENCIAS!$R$12:$S$20,2,FALSE) -> #N/A | X19: =IF(W19=100,"NO","SI") -> #N/A
S20: =SUM(L20:R20) -> 0 | T20: =CONCATENATE(U20,V20) -> DÉBIL | U20: =IF(S20<86,"DÉBIL",IF(S20<96,"MODERADO","FUERTE")) -> DÉBIL | W20: =VLOOKUP(T20,REFERENCIAS!$R$12:$S$20,2,FALSE) -> #N/A | X20: =IF(W20=100,"NO","SI") -> #N/A
S21: =SUM(L21:R21) -> 0 | T21: =CONCATENATE(U21,V21) -> DÉBIL | U21: =IF(S21<86,"DÉBIL",IF(S21<96,"MODERADO","FUERTE")) -> DÉBIL | W21: =VLOOKUP(T21,REFERENCIAS!$R$12:$S$20,2,FALSE) -> #N/A | X21: =IF(W21=100,"NO","SI") -> #N/A
S22: =SUM(L22:R22) -> 0 | T22: =CONCATENATE(U22,V22) -> DÉBIL | U22: =IF(S22<86,"DÉBIL",IF(S22<96,"MODERADO","FUERTE")) -> DÉBIL | W22: =VLOOKUP(T22,REFERENCIAS!$R$12:$S$20,2,FALSE) -> #N/A | X22: =IF(W22=100,"NO","SI") -> #N/A
S23: =SUM(L23:R23) -> 0 | T23: =CONCATENATE(U23,V23) -> DÉBIL | U23: =IF(S23<86,"DÉBIL",IF(S23<96,"MODERADO","FUERTE")) -> DÉBIL | W23: =VLOOKUP(T23,REFERENCIAS!$R$12:$S$20,2,FALSE) -> #N/A | X23: =IF(W23=100,"NO","SI") -> #N/A
B24: 3 | I24: =CONCATENATE(G24,H24) | J24: =VLOOKUP(I24,REFERENCIAS!$L$12:$M$36,2,FALSE) -> #N/A | S24: =SUM(L24:R24) -> 0 | T24: =CONCATENATE(U24,V24) -> DÉBIL | U24: =IF(S24<86,"DÉBIL",IF(S24<96,"MODERADO","FUERTE")) -> DÉBIL | W24: =VLOOKUP(T24,REFERENCIAS!$R$12:$S$20,2,FALSE) -> #N/A | X24: =IF(W24=100,"NO","SI") -> #N/A | Y24: =IF(AVERAGE(W24:W33)<50,"DÉBIL",IF(AVERAGE(W24:W33)<100,"MODERADO","FUERTE")) -> #N/A | AB24: =CONCATENATE(Y24,Z24,AA24) -> #N/A | AC24: =VLOOKUP(AB24,REFERENCIAS!$X$11:$Z$19,2,FALSE) -> #N/A | AD24: =VLOOKUP(AB24,REFERENCIAS!$X$11:$Z$19,3,FALSE) -> #N/A | AE24: =IF(G24-AC24<1,1,G24-AC24) -> #N/A | AF24: =IF(H24-AD24<1,1,H24-AD24) -> #N/A | AG24: =CONCATENATE(AE24,AF24) -> #N/A | AH24: =VLOOKUP(AG24,REFERENCIAS!$L$12:$M$36,2,FALSE) -> #N/A
S25: =SUM(L25:R25) -> 0 | T25: =CONCATENATE(U25,V25) -> DÉBIL | U25: =IF(S25<86,"DÉBIL",IF(S25<96,"MODERADO","FUERTE")) -> DÉBIL | W25: =VLOOKUP(T25,REFERENCIAS!$R$12:$S$20,2,FALSE) -> #N/A | X25: =IF(W25=100,"NO","SI") -> #N/A
S26: =SUM(L26:R26) -> 0 | T26: =CONCATENATE(U26,V26) -> DÉBIL | U26: =IF(S26<86,"DÉBIL",IF(S26<96,"MODERADO","FUERTE")) -> DÉBIL | W26: =VLOOKUP(T26,REFERENCIAS!$R$12:$S$20,2,FALSE) -> #N/A | X26: =IF(W26=100,"NO","SI") -> #N/A
S27: =SUM(L27:R27) -> 0 | T27: =CONCATENATE(U27,V27) -> DÉBIL | U27: =IF(S27<86,"DÉBIL",IF(S27<96,"MODERADO","FUERTE")) -> DÉBIL | W27: =VLOOKUP(T27,REFERENCIAS!$R$12:$S$20,2,FALSE) -> #N/A | X27: =IF(W27=100,"NO","SI") -> #N/A
S28: =SUM(L28:R28) -> 0 | T28: =CONCATENATE(U28,V28) -> DÉBIL | U28: =IF(S28<86,"DÉBIL",IF(S28<96,"MODERADO","FUERTE")) -> DÉBIL | W28: =VLOOKUP(T28,REFERENCIAS!$R$12:$S$20,2,FALSE) -> #N/A | X28: =IF(W28=100,"NO","SI") -> #N/A
S29: =SUM(L29:R29) -> 0 | T29: =CONCATENATE(U29,V29) -> DÉBIL | U29: =IF(S29<86,"DÉBIL",IF(S29<96,"MODERADO","FUERTE")) -> DÉBIL | W29: =VLOOKUP(T29,REFERENCIAS!$R$12:$S$20,2,FALSE) -> #N/A | X29: =IF(W29=100,"NO","SI") -> #N/A
S30: =SUM(L30:R30) -> 0 | T30: =CONCATENATE(U30,V30) -> DÉBIL | U30: =IF(S30<86,"DÉBIL",IF(S30<96,"MODERADO","FUERTE")) -> DÉBIL | W30: =VLOOKUP(T30,REFERENCIAS!$R$12:$S$20,2,FALSE) -> #N/A | X30: =IF(W30=100,"NO","SI") -> #N/A
S31: =SUM(L31:R31) -> 0 | T31: =CONCATENATE(U31,V31) -> DÉBIL | U31: =IF(S31<86,"DÉBIL",IF(S31<96,"MODERADO","FUERTE")) -> DÉBIL | W31: =VLOOKUP(T31,REFERENCIAS!$R$12:$S$20,2,FALSE) -> #N/A | X31: =IF(W31=100,"NO","SI") -> #N/A
S32: =SUM(L32:R32) -> 0 | T32: =CONCATENATE(U32,V32) -> DÉBIL | U32: =IF(S32<86,"DÉBIL",IF(S32<96,"MODERADO","FUERTE")) -> DÉBIL | W32: =VLOOKUP(T32,REFERENCIAS!$R$12:$S$20,2,FALSE) -> #N/A | X32: =IF(W32=100,"NO","SI") -> #N/A
S33: =SUM(L33:R33) -> 0 | T33: =CONCATENATE(U33,V33) -> DÉBIL | U33: =IF(S33<86,"DÉBIL",IF(S33<96,"MODERADO","FUERTE")) -> DÉBIL | W33: =VLOOKUP(T33,REFERENCIAS!$R$12:$S$20,2,FALSE) -> #N/A | X33: =IF(W33=100,"NO","SI") -> #N/A
B34: 4 | I34: =CONCATENATE(G34,H34) | J34: =VLOOKUP(I34,REFERENCIAS!$L$12:$M$36,2,FALSE) -> #N/A | S34: =SUM(L34:R34) -> 0 | T34: =CONCATENATE(U34,V34) -> DÉBIL | U34: =IF(S34<86,"DÉBIL",IF(S34<96,"MODERADO","FUERTE")) -> DÉBIL | W34: =VLOOKUP(T34,REFERENCIAS!$R$12:$S$20,2,FALSE) -> #N/A | X34: =IF(W34=100,"NO","SI") -> #N/A | Y34: =IF(AVERAGE(W34:W43)<50,"DÉBIL",IF(AVERAGE(W34:W43)<100,"MODERADO","FUERTE")) -> #N/A | AB34: =CONCATENATE(Y34,Z34,AA34) -> #N/A | AC34: =VLOOKUP(AB34,REFERENCIAS!$X$11:$Z$19,2,FALSE) -> #N/A | AD34: =VLOOKUP(AB34,REFERENCIAS!$X$11:$Z$19,3,FALSE) -> #N/A | AE34: =IF(G34-AC34<1,1,G34-AC34) -> #N/A | AF34: =IF(H34-AD34<1,1,H34-AD34) -> #N/A | AG34: =CONCATENATE(AE34,AF34) -> #N/A | AH34: =VLOOKUP(AG34,REFERENCIAS!$L$12:$M$36,2,FALSE) -> #N/A
S35: =SUM(L35:R35) -> 0 | T35: =CONCATENATE(U35,V35) -> DÉBIL | U35: =IF(S35<86,"DÉBIL",IF(S35<96,"MODERADO","FUERTE")) -> DÉBIL | W35: =VLOOKUP(T35,REFERENCIAS!$R$12:$S$20,2,FALSE) -> #N/A | X35: =IF(W35=100,"NO","SI") -> #N/A
S36: =SUM(L36:R36) -> 0 | T36: =CONCATENATE(U36,V36) -> DÉBIL | U36: =IF(S36<86,"DÉBIL",IF(S36<96,"MODERADO","FUERTE")) -> DÉBIL | W36: =VLOOKUP(T36,REFERENCIAS!$R$12:$S$20,2,FALSE) -> #N/A | X36: =IF(W36=100,"NO","SI") -> #N/A
S37: =SUM(L37:R37) -> 0 | T37: =CONCATENATE(U37,V37) -> DÉBIL | U37: =IF(S37<86,"DÉBIL",IF(S37<96,"MODERADO","FUERTE")) -> DÉBIL | W37: =VLOOKUP(T37,REFERENCIAS!$R$12:$S$20,2,FALSE) -> #N/A | X37: =IF(W37=100,"NO","SI") -> #N/A
S38: =SUM(L38:R38) -> 0 | T38: =CONCATENATE(U38,V38) -> DÉBIL | U38: =IF(S38<86,"DÉBIL",IF(S38<96,"MODERADO","FUERTE")) -> DÉBIL | W38: =VLOOKUP(T38,REFERENCIAS!$R$12:$S$20,2,FALSE) -> #N/A | X38: =IF(W38=100,"NO","SI") -> #N/A
S39: =SUM(L39:R39) -> 0 | T39: =CONCATENATE(U39,V39) -> DÉBIL | U39: =IF(S39<86,"DÉBIL",IF(S39<96,"MODERADO","FUERTE")) -> DÉBIL | W39: =VLOOKUP(T39,REFERENCIAS!$R$12:$S$20,2,FALSE) -> #N/A | X39: =IF(W39=100,"NO","SI") -> #N/A
S40: =SUM(L40:R40) -> 0 | T40: =CONCATENATE(U40,V40) -> DÉBIL | U40: =IF(S40<86,"DÉBIL",IF(S40<96,"MODERADO","FUERTE")) -> DÉBIL | W40: =VLOOKUP(T40,REFERENCIAS!$R$12:$S$20,2,FALSE) -> #N/A | X40: =IF(W40=100,"NO","SI") -> #N/A
...

Sheet TABLAS
B4: 1 | C4: 5 | D4: CATASTRÓFICO | E4: 5 | F4: BAJO | I4: PREVENTIVO
B5: 2 | C5: 4 | D5: MAYOR | E5: 10 | F5: MEDIO (MODERADO) | I5: CORRECTIVO
B6: 3 | C6: 3 | D6: MODERADO | E6: 15 | F6: MEDIO (MODERADO) | I6: DETECTIVO
B7: 4 | E7: 20 | F7: MEDIO (MODERADO)
B8: 5 | E8: 30 | F8: ALTO (MAYOR)
E9: 40 | F9: ALTO (MAYOR)
E10: 60 | F10: ALTO (MAYOR)
E11: 80 | F11: MUY ALTO (CATASTRÓFICO)
E12: 120 | F12: MUY ALTO (CATASTRÓFICO)
E13: 160 | F13: MUY ALTO (CATASTRÓFICO)
C17: 5 | D17: CATASTRÓFICO
C18: 4 | D18: MAYOR
C19: 3 | D19: MODERADO
C20: 2 | D20: MENOR
C21: 1 | D21: INSIGNIFICANTE

Sheet REFERENCIAS
B3: frecuencia | J3: f | K3: im | R3: Económico
B4: 5 | C4: =$B4*C$9 -> 5 | D4: =$B4*D$9 -> 10 | E4: =$B4*E$9 -> 15 | F4: =$B4*F$9 -> 20 | G4: =$B4*G$9 -> 25 | J4: 1 | K4: 1 | M4: =IF(J4=1,IF(K4=1,"bajo",IF(J4=1,IF(K4=2,"bajo", IF(J4=1,IF(K4=3,"moderado",IF(J4=1,IF(K4=4,"alto","extremo")))))))) -> bajo | N4: =IF(J4=1,IF(K4=1,"bajo",IF(J4=1,IF(K4=2,"bajo", IF(J4=1,IF(K4=3,"moderado",IF(J4=1,IF(K4=4,"alto","extremo")))))))) o IF(J4=2,IF(K4=1,"bajo",IF(J4=2,IF(K4=2,"bajo", IF(J4=2,IF(K4=3,"moderado",IF(J4=2,IF(K4=4,"alto","extremo")))))))) -> #VALUE! | R4: Reputacional
B5: 4 | C5: =$B5*C$9 -> 4 | D5: =$B5*D$9 -> 8 | E5: =$B5*E$9 -> 12 | F5: =$B5*F$9 -> 16 | G5: =$B5*G$9 -> 20 | J5: 1 | K5: 2 | M5: =IF(J5=1,IF(K5=1,"bajo",IF(J5=1,IF(K5=2,"bajo", IF(J5=1,IF(K5=3,"moderado",IF(J5=1,IF(K5=4,"alto","extremo")))))))) -> bajo | R5: Economico y Reputacional
B6: 3 | C6: =$B6*C$9 -> 3 | D6: =$B6*D$9 -> 6 | E6: =$B6*E$9 -> 9 | F6: =$B6*F$9 -> 12 | G6: =$B6*G$9 -> 15 | J6: 1 | K6: 3 | M6: =IF(J6=1,IF(K6=1,"bajo",IF(J6=1,IF(K6=2,"bajo", IF(J6=1,IF(K6=3,"moderado",IF(J6=1,IF(K6=4,"alto","extremo")))))))) -> moderado
B7: 2 | C7: =$B7*C$9 -> 2 | D7: =$B7*D$9 -> 4 | E7: =$B7*E$9 -> 6 | F7: =$B7*F$9 -> 8 | G7: =$B7*G$9 -> 10 | J7: 1 | K7: 4 | M7: =IF(J7=1,IF(K7=1,"bajo",IF(J7=1,IF(K7=2,"bajo", IF(J7=1,IF(K7=3,"moderado",IF(J7=1,IF(K7=4,"alto","extremo")))))))) -> alto
B8: 1 | C8: =$B8*C$9 -> 1 | D8: =$B8*D$9 -> 2 | E8: =$B8*E$9 -> 3 | F8: =$B8*F$9 -> 4 | G8: =$B8*G$9 -> 5 | J8: 1 | K8: 5 | M8: =IF(J8=1,IF(K8=1,"bajo",IF(J8=1,IF(K8=2,"bajo", IF(J8=1,IF(K8=3,"moderado",IF(J8=1,IF(K8=4,"alto","extremo")))))))) -> extremo
C9: 1 | D9: 2 | E9: 3 | F9: 4 | G9: 5 | H9: impacto
U11: DÉBIL | V11: NO DISMINUYE | W11: NO DISMINUYE | X11: DÉBILNO DISMINUYENO DISMINUYE | Y11: 0 | Z11: 0
B12: frecuencia | J12: 1 | K12: 1 | L12: =CONCATENATE(J12,K12) -> 11 | M12: Bajo | P12: FUERTE | Q12: FUERTE | R12: FUERTEFUERTE | S12: 100 | U12: FUERTE | V12: DIRECTAMENTE | W12: DIRECTAMENTE | X12: FUERTEDIRECTAMENTEDIRECTAMENTE | Y12: 2 | Z12: 2
B13: 5 | C13: =CONCATENATE($B13,C$9) -> 51 | D13: =CONCATENATE($B13,D$9) -> 52 | E13: =CONCATENATE($B13,E$9) -> 53 | F13: =CONCATENATE($B13,F$9) -> 54 | G13: =CONCATENATE($B13,G$9) -> 55 | J13: 1 | K13: 2 | L13: =CONCATENATE(J13,K13) -> 12 | M13: Bajo | P13: FUERTE | Q13: MODERADO | R13: FUERTEMODERADO | S13: 50 | U13: FUERTE | V13: DIRECTAMENTE | W13: INDIRECTAMENTE | X13: FUERTEDIRECTAMENTEINDIRECTAMENTE | Y13: 2 | Z13: 1
B14: 4 | C14: =CONCATENATE($B14,C$9) -> 41 | D14: =CONCATENATE($B14,D$9) -> 42 | E14: =CONCATENATE($B14,E$9) -> 43 | F14: =CONCATENATE($B14,F$9) -> 44 | G14: =CONCATENATE($B14,G$9) -> 45 | J14: 1 | K14: 3 | L14: =CONCATENATE(J14,K14) -> 13 | M14: Moderado | P14: FUERTE | Q14: DÉBIL | R14: FUERTEDÉBIL | S14: 0 | U14: FUERTE | V14: DIRECTAMENTE | W14: NO DISMINUYE | X14: FUERTEDIRECTAMENTENO DISMINUYE | Y14: 2 | Z14: 0
B15: 3 | C15: =CONCATENATE($B15,C$9) -> 31 | D15: =CONCATENATE($B15,D$9) -> 32 | E15: =CONCATENATE($B15,E$9) -> 33 | F15: =CONCATENATE($B15,F$9) -> 34 | G15: =CONCATENATE($B15,G$9) -> 35 | J15: 1 | K15: 4 | L15: =CONCATENATE(J15,K15) -> 14 | M15: Alto | P15: MODERADO | Q15: FUERTE | R15: MODERADOFUERTE | S15: 50 | U15: FUERTE | V15: NO DISMINUYE | W15: DIRECTAMENTE | X15: FUERTENO DISMINUYEDIRECTAMENTE | Y15: 0 | Z15: 2
B16: 2 | C16: =CONCATENATE($B16,C$9) -> 21 | D16: =CONCATENATE($B16,D$9) -> 22 | E16: =CONCATENATE($B16,E$9) -> 23 | F16: =CONCATENATE($B16,F$9) -> 24 | G16: =CONCATENATE($B16,G$9) -> 25 | J16: 1 | K16: 5 | L16: =CONCATENATE(J16,K16) -> 15 | M16: Extremo | P16: MODERADO | Q16: MODERADO | R16: MODERADOMODERADO | S16: 50 | U16: MODERADO | V16: DIRECTAMENTE | W16: DIRECTAMENTE | X16: MODERADODIRECTAMENTEDIRECTAMENTE | Y16: 1 | Z16: 1
B17: 1 | C17: =CONCATENATE($B17,C$9) -> 11 | D17: =CONCATENATE($B17,D$9) -> 12 | E17: =CONCATENATE($B17,E$9) -> 13 | F17: =CONCATENATE($B17,F$9) -> 14 | G17: =CONCATENATE($B17,G$9) -> 15 | J17: 2 | K17: 1 | L17: =CONCATENATE(J17,K17) -> 21 | M17: Bajo | P17: MODERADO | Q17: DÉBIL | R17: MODERADODÉBIL | S17: 0 | U17: MODERADO | V17: DIRECTAMENTE | W17: INDIRECTAMENTE | X17: MODERADODIRECTAMENTEINDIRECTAMENTE | Y17: 1 | Z17: 0
C18: 1 | D18: 2 | E18: 3 | F18: 4 | G18: 5 | H18: impacto | J18: 2 | K18: 2 | L18: =CONCATENATE(J18,K18) -> 22 | M18: Bajo | P18: DÉBIL | Q18: FUERTE | R18: DÉBILFUERTE | S18: 0 | U18: MODERADO | V18: DIRECTAMENTE | W18: NO DISMINUYE | X18: MODERADODIRECTAMENTENO DISMINUYE | Y18: 1 | Z18: 0
J19: 2 | K19: 3 | L19: =CONCATENATE(J19,K19) -> 23 | M19: Moderado | P19: DÉBIL | Q19: MODERADO | R19: DÉBILMODERADO | S19: 0 | U19: MODERADO | V19: NO DISMINUYE | W19: DIRECTAMENTE | X19: MODERADONO DISMINUYEDIRECTAMENTE | Y19: 0 | Z19: 1
J20: 2 | K20: 4 | L20: =CONCATENATE(J20,K20) -> 24 | M20: Alto | P20: DÉBIL | Q20: DÉBIL | R20: DÉBILDÉBIL | S20: 0
J21: 2 | K21: 5 | L21: =CONCATENATE(J21,K21) -> 25 | M21: Extremo
J22: 3 | K22: 1 | L22: =CONCATENATE(J22,K22) -> 31 | M22: Bajo
J23: 3 | K23: 2 | L23: =CONCATENATE(J23,K23) -> 32 | M23: Moderado
J24: 3 | K24: 3 | L24: =CONCATENATE(J24,K24) -> 33 | M24: Alto
J25: 3 | K25: 4 | L25: =CONCATENATE(J25,K25) -> 34 | M25: Extremo
J26: 3 | K26: 5 | L26: =CONCATENATE(J26,K26) -> 35 | M26: Extremo
J27: 4 | K27: 1 | L27: =CONCATENATE(J27,K27) -> 41 | M27: Moderado
J28: 4 | K28: 2 | L28: =CONCATENATE(J28,K28) -> 42 | M28: Alto
J29: 4 | K29: 3 | L29: =CONCATENATE(J29,K29) -> 43 | M29: Alto
J30: 4 | K30: 4 | L30: =CONCATENATE(J30,K30) -> 44 | M30: Extremo
J31: 4 | K31: 5 | L31: =CONCATENATE(J31,K31) -> 45 | M31: Extremo
J32: 5 | K32: 1 | L32: =CONCATENATE(J32,K32) -> 51 | M32: Alto
... J36: 5 | K36: 5 | L36: =CONCATENATE(J36,K36) -> 55 | M36: Extremo

Sheet RIESGOS CORRUPCIÓN 2022
A2: MATRIZ RIESGOS CORRUPCIÓN 2022
A3: PROCESO | B3: CÓDIGO | C3: IDENTIFICACIÓN DE RIESGOS | G3: RIESGO INHERENTE | K3: CONTROLES EXISTENTES (BARRERAS) | L3: DISEÑO DEL CONTROL | V3: EJECUCIÓN DEL CONTROL | W3: RESULTADO DE EVALUACIÓN DE CONTROLES | AE3: CALIFICACIÓN DEL RIESGO DESPUÉS DE CONTROLES | AH3: RIESGO RESIDUAL
C4: RIESGO - DESCRIPCIÓN | D4: TIPO DE RIESGO | E4: CAUSAS | F4: CONSECUENCIAS (IMPACTO) | G4: PROBABILIDAD | H4: IMPACTO | I4: NIVEL DE RIESGO | J4: ZONA DE RIESGO | L4: ASIGNACIÓN DE RESPONSABLE PARA LA EJECUCIÓN DEL CONTROL | M4: SEGREGACIÓN Y AUTORIDAD DEL RESPONSABLE | N4: PERIODICIDAD EN LA EJECUCIÓN | O4: PROPÓSITO DEL CONTROL (DETECTIVO O PREVENTIVO) | P4: COMO SE REALIZA LA ACTIVIDAD DE CONTROL | Q4: QUE PASA CON LAS OBSERVACIONES O DESVIACIONES | R4: EVIDENCIA DE LA EJECUCIÓN DEL CONTROL | S4: SUMATORIA DISEÑO | T4: RESULTADO EVALUACIÓN DEL CONTROL | U4: PESO DEL R/ DISEÑO DEL CONTROL | V4: CALIFICACIÓN DE LA EJECUCIÓN DEL CONTROL FUERTE 100 CONSISTENTE MODERADO: 50 ALGUNAS VECES DÉBIL 0 NO SE EJECUTA | W4: SOLIDEZ INDIVIDUAL DEL CONTROL | X4: REQUIERE ACCIONES DE MEJORA | Y4: SOLIDEZ DEL CONJUNTO DE CONTROLES FUERTE 100 MODERADO 50 A 99 DEBIL MENOR A 50 | Z4: DISMINUYE PROBABILIDAD SI LA SOLIDEZ DE CONJUNTO ES DEBIL NO DOSIMINUYE | AA4: DISMINUYE IMPACTO SI LA SOLIDEZ DE CONJUNTO ES DEBIL NO DOSIMINUYE | AC4: DESPLAZAMIENTO EN EJE DE PROBABILIDAD | AD4: DESPLAZAMIENTO EN EJE DE IMPACTO | AE4: PROBABILIDAD | AF4: IMPACTO | AI4: OPCIÓN DE MANEJO
B5: 1 | C5: Tráfico de influencias, (amiguismo, persona influyente, clientelismo) G bienes y servicios (contratación) G talento humano G financiera | D5: CORRUPCIÓN | E5: Proceso de ingreso otros tipos de nombramiento y contratistas, direccionados y sin rigor metodológico en pruebas de conocimiento y actitudinales, entrevistas, verificación de hoja de vida y requisitos para el cargo | F5: Responsabilidad patrimonial de la institución por demandas judiciales y/o sanciones de organismos de vigilancia y control | G5: 3 | H5: 3 | I5: =CONCATENATE(G5,H5) -> 33 | J5: =VLOOKUP(I5,REFERENCIAS!$L$12:$M$36,2,FALSE) -> Alto | K5: Verificar que el candidato cumpla el perfil exigido. En caso de presentarse diferencias solicite revisión por el Auxiliar Administrativo. (contratistas) pr ingreso otros tipos | L5: 15 | M5: 15 | N5: 15 | O5: 15 | P5: 15 | Q5: 15 | R5: 10 | S5: =SUM(L5:R5) -> 100 | T5: =CONCATENATE(U5,V5) -> FUERTEFUERTE | U5: =IF(S5<86,"DÉBIL",IF(S5<96,"MODERADO","FUERTE")) -> FUERTE | V5: FUERTE | W5: =VLOOKUP(T5,REFERENCIAS!$R$12:$S$20,2,FALSE) -> 100 | X5: =IF(W5=100,"NO","SI") -> NO | Y5: =IF(AVERAGE(W5:W10)<50,"DÉBIL",IF(AVERAGE(W5:W10)<100,"MODERADO","FUERTE")) -> MODERADO | Z5: DIRECTAMENTE | AA5: INDIRECTAMENTE | AB5: =CONCATENATE(Y5,Z5,AA5) -> MODERADODIRECTAMENTEINDIRECTAMENTE | AC5: =VLOOKUP(AB5,REFERENCIAS!$X$11:$Z$19,2,FALSE) -> 1 | AD5: =VLOOKUP(AB5,REFERENCIAS!$X$11:$Z$19,3,FALSE) -> 0 | AE5: =IF(G5-AC5<1,1,G5-AC5) -> 2 | AF5: =IF(H5-AD5<1,1,H5-AD5) -> 3 | AG5: =CONCATENATE(AE5,AF5) -> 23 | AH5: =VLOOKUP(AG5,REFERENCIAS!$L$12:$M$36,2,FALSE) -> Moderado | AI5: EVITAR
F6: Deterioro de la imagen institucional | K6: Validar que a los candidatos se les haya revisado las referencias laborales y personales (provisionales) pr ingreso otros tipos | L6: 15 | M6: 15 | N6: 15 | O6: 15 | P6: 15 | Q6: 0 | R6: 10 | S6: =SUM(L6:R6) -> 85 | T6: =CONCATENATE(U6,V6) -> DÉBILFUERTE | U6: =IF(S6<86,"DÉBIL",IF(S6<96,"MODERADO","FUERTE")) -> DÉBIL | V6: FUERTE | W6: =VLOOKUP(T6,REFERENCIAS!$R$12:$S$20,2,FALSE) -> 0 | X6: =IF(W6=100,"NO","SI") -> SI
E7: Controles deficientes al interior de cada proceso que generan decisiones autónomas en los servidores | F7: Ineficiencia administrativa. | K7: Validación por parte de los Jefes responsables de los procesos, de los productos generados en cada uno. | L7: 15 | M7: 15 | N7: 15 | O7: 15 | P7: 15 | Q7: 15 | R7: 10 | S7: =SUM(L7:R7) -> 100 | T7: =CONCATENATE(U7,V7) -> FUERTEMODERADO | U7: =IF(S7<86,"DÉBIL",IF(S7<96,"MODERADO","FUERTE")) -> FUERTE | V7: MODERADO | W7: =VLOOKUP(T7,REFERENCIAS!$R$12:$S$20,2,FALSE) -> 50 | X7: =IF(W7=100,"NO","SI") -> SI
E8: Insuficiente apropiación de una cultura organizacional centrada en la transparencia y la anticorrupción | F8: Sanciones disciplinarias, fiscales y/o penales a los funcionarios | K8: Despliegue, conocimiento y apropiación del Código de Integridad | L8: 15 | M8: 15 | N8: 15 | O8: 15 | P8: 15 | Q8: 15 | R8: 10 | S8: =SUM(L8:R8) -> 100 | T8: =CONCATENATE(U8,V8) -> FUERTEFUERTE | U8: =IF(S8<86,"DÉBIL",IF(S8<96,"MODERADO","FUERTE")) -> FUERTE | V8: FUERTE | W8: =VLOOKUP(T8,REFERENCIAS!$R$12:$S$20,2,FALSE) -> 100 | X8: =IF(W8=100,"NO","SI") -> NO
E9: Direccionar las especificaciones técnicas para favorecer a terceros sin la debida justificación y lleno de requisitos definidos en el estatuo de contratación | F9: Eventos adversos y afectación en la prestación de los servicios por ingreso de personal no competente para el cargo | K9: Aplicación del Manual de Contratación en todos los procesos de contratación de bienes y servicios. En caso de incumplimiento | L9: 15 | M9: 15 | N9: 15 | O9: 15 | P9: 15 | Q9: 15 | R9: 10 | S9: =SUM(L9:R9) -> 100 | T9: =CONCATENATE(U9,V9) -> FUERTEFUERTE | U9: =IF(S9<86,"DÉBIL",IF(S9<96,"MODERADO","FUERTE")) -> FUERTE | V9: FUERTE | W9: =VLOOKUP(T9,REFERENCIAS!$R$12:$S$20,2,FALSE) -> 100 | X9: =IF(W9=100,"NO","SI") -> NO
E10: Favorecimiento de pagos a proveedores sin aplicar los criterios de priorización definidos | K10: 14. Aprobar los pagos a realizar en el mes de acuerdo con el flujo de caja proyectado por tesorería 15. Programar y relacionar pagos con base en el listado de vencimientos actualizado, necesidades del servicio, obligaciones fijas y compromisos ya adquiridos según flujo de caja aprobado (Pr ejecución de pagos) | L10: 15 | M10: 15 | N10: 15 | O10: 15 | P10: 15 | Q10: 0 | R10: 10 | S10: =SUM(L10:R10) -> 85 | T10: =CONCATENATE(U10,V10) -> DÉBILFUERTE | U10: =IF(S10<86,"DÉBIL",IF(S10<96,"MODERADO","FUERTE")) -> DÉBIL | V10: FUERTE | W10: =VLOOKUP(T10,REFERENCIAS!$R$12:$S$20,2,FALSE) -> 0 | X10: =IF(W10=100,"NO","SI") -> SI
B11: 2 | C11: Extralimitación de funciones y/o concentración de autoridad o exceso de poder Direccionamiento Estratégico G Sistemas de información G bienes y servicios (contratación) G talento humano G. Control Interno Disciplinario G. Control y Evaluación | D11: CORRUPCIÓN | E11: Intereses particulares en el logro de los objetivos y/o resultados. | F11: Responsabilidad patrimonial de la institución por demandas judiciales y/o sanciones de organismos de vigilancia y control | G11: 2 | H11: 4 | I11: =CONCATENATE(G11,H11) -> 24 | J11: =VLOOKUP(I11,REFERENCIAS!$L$12:$M$36,2,FALSE) -> Alto | K11: Aplicación de la Evaluación de desempeño y de los Acuerdos de gestión anualmente. En caso de evaluaciones deficientes generar los planes de mejora individual | L11: 15 | M11: 15 | N11: 15 | O11: 15 | P11: 15 | Q11: 15 | R11: 10 | S11: =SUM(L11:R11) -> 100 | T11: =CONCATENATE(U11,V11) -> FUERTEMODERADO | U11: =IF(S11<86,"DÉBIL",IF(S11<96,"MODERADO","FUERTE")) -> FUERTE | V11: MODERADO | W11: =VLOOKUP(T11,REFERENCIAS!$R$12:$S$20,2,FALSE) -> 50 | X11: =IF(W11=100,"NO","SI") -> SI | Y11: =IF(AVERAGE(W11:W16)<50,"DÉBIL",IF(AVERAGE(W11:W16)<100,"MODERADO","FUERTE")) -> MODERADO | Z11: DIRECTAMENTE | AA11: INDIRECTAMENTE | AB11: =CONCATENATE(Y11,Z11,AA11) -> MODERADODIRECTAMENTEINDIRECTAMENTE | AC11: =VLOOKUP(AB11,REFERENCIAS!$X$11:$Z$19,2,FALSE) -> 1 | AD11: =VLOOKUP(AB11,REFERENCIAS!$X$11:$Z$19,3,FALSE) -> 0 | AE11: =IF(G11-AC11<1,1,G11-AC11) -> 1 | AF11: =IF(H11-AD11<1,1,H11-AD11) -> 4 | AG11: =CONCATENATE(AE11,AF11) -> 14 | AH11: =VLOOKUP(AG11,REFERENCIAS!$L$12:$M$36,2,FALSE) -> Alto | AI11: EVITAR
E12: Insuficiente apropiación de una cultura organizacional centrada en la transparencia y la anticorrupción | F12: desmotivación en los servidores y afectación del clima laboral | K12: Despliegue, conocimiento y apropiación del Código de Integridad | L12: 15 | M12: 15 | N12: 15 | O12: 15 | P12: 15 | Q12: 15 | R12: 10 | S12: =SUM(L12:R12) -> 100 | T12: =CONCATENATE(U12,V12) -> FUERTEFUERTE | U12: =IF(S12<86,"DÉBIL",IF(S12<96,"MODERADO","FUERTE")) -> FUERTE | V12: FUERTE | W12: =VLOOKUP(T12,REFERENCIAS!$R$12:$S$20,2,FALSE) -> 100 | X12: =IF(W12=100,"NO","SI") -> NO
E13: Controles deficientes al interior de cada proceso que generan decisiones autónomas en los servidores | F13: Investigaciones y/o sanciones disciplinarias, fiscales y/o penales a los funcionarios | K13: Actividades de socialización del código disciplinario | L13: 15 | M13: 15 | N13: 15 | O13: 15 | P13: 15 | Q13: 15 | R13: 10 | S13: =SUM(L13:R13) -> 100 | T13: =CONCATENATE(U13,V13) -> FUERTEFUERTE | U13: =IF(S13<86,"DÉBIL",IF(S13<96,"MODERADO","FUERTE")) -> FUERTE | V13: FUERTE | W13: =VLOOKUP(T13,REFERENCIAS!$R$12:$S$20,2,FALSE) -> 100 | X13: =IF(W13=100,"NO","SI") -> NO
F14: Acoso laboral | K14: Linea de denuncias implementada y con seguimiento a los resultados. | L14: 15 | M14: 15 | N14: 15 | O14: 15 | P14: 15 | Q14: 15 | R14: 10 | S14: =SUM(L14:R14) -> 100 | T14: =CONCATENATE(U14,V14) -> FUERTEMODERADO | U14: =IF(S14<86,"DÉBIL",IF(S14<96,"MODERADO","FUERTE")) -> FUERTE | V14: MODERADO | W14: =VLOOKUP(T14,REFERENCIAS!$R$12:$S$20,2,FALSE) -> 50 | X14: =IF(W14=100,"NO","SI") -> SI
F15: Deterioro de la imagen institucional
F16: Reprocesos
B17: 3 | C17: Soborno (cohecho - recibir dádivas) G bienes y servicios (contratación) G talento humano G financiera | D17: CORRUPCIÓN | E17: Insuficiente apropiación de una cultura organizacional centrada en la transparencia y la anticorrupción | F17: Responsabilidad patrimonial de la institución por demandas judiciales y/o sanciones de organismos de vigilancia y control | G17: 1 | H17: 4 | I17: =CONCATENATE(G17,H17) -> 14 | J17: =VLOOKUP(I17,REFERENCIAS!$L$12:$M$36,2,FALSE) -> Alto | K17: Despliegue, conocimiento y apropiación del Código de Integridad | L17: 15 | M17: 15 | N17: 15 | O17: 15 | P17: 15 | Q17: 15 | R17: 10 | S17: =SUM(L17:R17) -> 100 | T17: =CONCATENATE(U17,V17) -> FUERTEFUERTE | U17: =IF(S17<86,"DÉBIL",IF(S17<96,"MODERADO","FUERTE")) -> FUERTE | V17: FUERTE | W17: =VLOOKUP(T17,REFERENCIAS!$R$12:$S$20,2,FALSE) -> 100 | X17: =IF(W17=100,"NO","SI") -> NO | Y17: =IF(AVERAGE(W17:W23)<50,"DÉBIL",IF(AVERAGE(W17:W23)<100,"MODERADO","FUERTE")) -> MODERADO | Z17: DIRECTAMENTE | AA17: INDIRECTAMENTE | AB17: =CONCATENATE(Y17,Z17,AA17) -> MODERADODIRECTAMENTEINDIRECTAMENTE | AC17: =VLOOKUP(AB17,REFERENCIAS!$X$11:$Z$19,2,FALSE) -> 1 | AD17: =VLOOKUP(AB17,REFERENCIAS!$X$11:$Z$19,3,FALSE) -> 0 | AE17: =IF(G17-AC17<1,1,G17-AC17) -> 1 | AF17: =IF(H17-AD17<1,1,H17-AD17) -> 4 | AG17: =CONCATENATE(AE17,AF17) -> 14 | AH17: =VLOOKUP(AG17,REFERENCIAS!$L$12:$M$36,2,FALSE) -> Alto | AI17: EVITAR
F18: Deterioro de la imagen institucional | K18: Actividades de socialización del código disciplinario | L18: 15 | M18: 15 | N18: 15 | O18: 15 | P18: 15 | Q18: 15 | R18: 10 | S18: =SUM(L18:R18) -> 100 | T18: =CONCATENATE(U18,V18) -> FUERTEFUERTE | U18: =IF(S18<86,"DÉBIL",IF(S18<96,"MODERADO","FUERTE")) -> FUERTE | V18: FUERTE | W18: =VLOOKUP(T18,REFERENCIAS!$R$12:$S$20,2,FALSE) -> 100 | X18: =IF(W18=100,"NO","SI") -> NO
E19: Intereses personales y falta de honestidad del recurso humano | F19: Investigaciones y/o sanciones disciplinarias, fiscales y/o penales a los servidores | K19: Despliegue, conocimiento y apropiación del Código de Integridad | L19: 15 | M19: 15 | N19: 15 | O19: 15 | P19: 15 | Q19: 15 | R19: 10 | S19: =SUM(L19:R19) -> 100 | T19: =CONCATENATE(U19,V19) -> FUERTEFUERTE | U19: =IF(S19<86,"DÉBIL",IF(S19<96,"MODERADO","FUERTE")) -> FUERTE | V19: FUERTE | W19: =VLOOKUP(T19,REFERENCIAS!$R$12:$S$20,2,FALSE) -> 100 | X19: =IF(W19=100,"NO","SI") -> NO
E20: Falta de controles en las actividades y procesos | K20: Validación por parte de los Jefes responsables de los procesos, de los productos generados en cada uno. | L20: 15 | M20: 15 | N20: 15 | O20: 15 | P20: 15 | Q20: 15 | R20: 10 | S20: =SUM(L20:R20) -> 100 | T20: =CONCATENATE(U20,V20) -> FUERTEMODERADO | U20: =IF(S20<86,"DÉBIL",IF(S20<96,"MODERADO","FUERTE")) -> FUERTE | V20: MODERADO | W20: =VLOOKUP(T20,REFERENCIAS!$R$12:$S$20,2,FALSE) -> 50 | X20: =IF(W20=100,"NO","SI") -> SI
K21: Aplicación del Manual de Contratación en todos los procesos de contratación de bienes y servicios. | L21: 15 | M21: 15 | N21: 15 | O21: 15 | P21: 15 | Q21: 15 | R21: 10 | S21: =SUM(L21:R21) -> 100 | T21: =CONCATENATE(U21,V21) -> FUERTEFUERTE | U21: =IF(S21<86,"DÉBIL",IF(S21<96,"MODERADO","FUERTE")) -> FUERTE | V21: FUERTE | W21: =VLOOKUP(T21,REFERENCIAS!$R$12:$S$20,2,FALSE) -> 100 | X21: =IF(W21=100,"NO","SI") -> NO
K22: Aplicación del Manual de Supervisiòn en todos los procesos de contratación de bienes y servicios. | L22: 15 | M22: 15 | N22: 15 | O22: 15 | P22: 15 | Q22: 15 | R22: 10 | S22: =SUM(L22:R22) -> 100 | T22: =CONCATENATE(U22,V22) -> FUERTEMODERADO | U22: =IF(S22<86,"DÉBIL",IF(S22<96,"MODERADO","FUERTE")) -> FUERTE | V22: MODERADO | W22: =VLOOKUP(T22,REFERENCIAS!$R$12:$S$20,2,FALSE) -> 50 | X22: =IF(W22=100,"NO","SI") -> SI
K23: Aprobar los pagos a realizar en el mes de acuerdo con el flujo de caja proyectado por tesorería Programar y relacionar pagos con base en el listado de vencimientos actualizado, necesidades del servicio, obligaciones fijas y compromisos ya adquiridos según flujo de caja aprobado (Pr ejecución de pagos) | L23: 15 | M23: 15 | N23: 15 | O23: 15 | P23: 15 | Q23: 0 | R23: 10 | S23: =SUM(L23:R23) -> 85 | T23: =CONCATENATE(U23,V23) -> DÉBILFUERTE | U23: =IF(S23<86,"DÉBIL",IF(S23<96,"MODERADO","FUERTE")) -> DÉBIL | V23: FUERTE | W23: =VLOOKUP(T23,REFERENCIAS!$R$12:$S$20,2,FALSE) -> 0 | X23: =IF(W23=100,"NO","SI") -> SI
B24: 4 | C24: Cobro por realización del trámite (Concusión) G bienes y servicios (contratación) G talento humano | D24: CORRUPCIÓN | E24: Insuficiente apropiación de una cultura organizacional centrada en la transparencia y la anticorrupción | F24: Responsabilidad patrimonial de la institución por demandas judiciales y/o sanciones de organismos de vigilancia y control | G24: 1 | H24: 4 | I24: =CONCATENATE(G24,H24) -> 14 | J24: =VLOOKUP(I24,REFERENCIAS!$L$12:$M$36,2,FALSE) -> Alto | K24: Despliegue, conocimiento y apropiación del Código de Integridad | L24: 15 | M24: 15 | N24: 15 | O24: 15 | P24: 15 | Q24: 15 | R24: 10 | S24: =SUM(L24:R24) -> 100 | T24: =CONCATENATE(U24,V24) -> FUERTEFUERTE | U24: =IF(S24<86,"DÉBIL",IF(S24<96,"MODERADO","FUERTE")) -> FUERTE | V24: FUERTE | W24: =VLOOKUP(T24,REFERENCIAS!$R$12:$S$20,2,FALSE) -> 100 | X24: =IF(W24=100,"NO","SI") -> NO | Y24: =IF(AVERAGE(W24:W29)<50,"DÉBIL",IF(AVERAGE(W24:W29)<100,"MODERADO","FUERTE")) -> MODERADO | Z24: DIRECTAMENTE | AA24: INDIRECTAMENTE | AB24: =CONCATENATE(Y24,Z24,AA24) -> MODERADODIRECTAMENTEINDIRECTAMENTE | AC24: =VLOOKUP(AB24,REFERENCIAS!$X$11:$Z$19,2,FALSE) -> 1 | AD24: =VLOOKUP(AB24,REFERENCIAS!$X$11:$Z$19,3,FALSE) -> 0 | AE24: =IF(G24-AC24<1,1,G24-AC24) -> 1 | AF24: =IF(H24-AD24<1,1,H24-AD24) -> 4 | AG24: =CONCATENATE(AE24,AF24) -> 14 | AH24: =VLOOKUP(AG24,REFERENCIAS!$L$12:$M$36,2,FALSE) -> Alto | AI24: EVITAR
F25: Deterioro de la imagen institucional | K25: Actividades de socialización del código disciplinario | L25: 15 | M25: 15 | N25: 15 | O25: 15 | P25: 15 | Q25: 15 | R25: 10 | S25: =SUM(L25:R25) -> 100 | T25: =CONCATENATE(U25,V25) -> FUERTEFUERTE | U25: =IF(S25<86,"DÉBIL",IF(S25<96,"MODERADO","FUERTE")) -> FUERTE | V25: FUERTE | W25: =VLOOKUP(T25,REFERENCIAS!$R$12:$S$20,2,FALSE) -> 100 | X25: =IF(W25=100,"NO","SI") -> NO
E26: Intereses personales y falta de honestidad del recurso humano | F26: Investigaciones y/o sanciones disciplinarias, fiscales y/o penales a los servidores | K26: Despliegue, conocimiento y apropiación del Código de Integridad | L26: 15 | M26: 15 | N26: 15 | O26: 15 | P26: 15 | Q26: 15 | R26: 10 | S26: =SUM(L26:R26) -> 100 | T26: =CONCATENATE(U26,V26) -> FUERTEFUERTE | U26: =IF(S26<86,"DÉBIL",IF(S26<96,"MODERADO","FUERTE")) -> FUERTE | V26: FUERTE | W26: =VLOOKUP(T26,REFERENCIAS!$R$12:$S$20,2,FALSE) -> 100 | X26: =IF(W26=100,"NO","SI") -> NO
E27: Falta de controles en las actividades y procesos | K27: Validación por parte de los Jefes responsables de los procesos, de los productos generados en cada uno. | L27: 15 | M27: 15 | N27: 15 | O27: 15 | P27: 15 | Q27: 15 | R27: 10 | S27: =SUM(L27:R27) -> 100 | T27: =CONCATENATE(U27,V27) -> FUERTEMODERADO | U27: =IF(S27<86,"DÉBIL",IF(S27<96,"MODERADO","FUERTE")) -> FUERTE | V27: MODERADO | W27: =VLOOKUP(T27,REFERENCIAS!$R$12:$S$20,2,FALSE) -> 50 | X27: =IF(W27=100,"NO","SI") -> SI
K28: Aplicación del Manual de Contratación en todos los procesos de contratación de bienes y servicios. | L28: 15 | M28: 15 | N28: 15 | O28: 15 | P28: 15 | Q28: 15 | R28: 10 | S28: =SUM(L28:R28) -> 100 | T28: =CONCATENATE(U28,V28) -> FUERTEFUERTE | U28: =IF(S28<86,"DÉBIL",IF(S28<96,"MODERADO","FUERTE")) -> FUERTE | V28: FUERTE | W28: =VLOOKUP(T28,REFERENCIAS!$R$12:$S$20,2,FALSE) -> 100 | X28: =IF(W28=100,"NO","SI") -> NO
K29: Aplicación del Manual de Supervisiòn en todos los procesos de contratación de bienes y servicios. | L29: 15 | M29: 15 | N29: 15 | O29: 15 | P29: 15 | Q29: 15 | R29: 10 | S29: =SUM(L29:R29) -> 100 | T29: =CONCATENATE(U29,V29) -> FUERTEMODERADO | U29: =IF(S29<86,"DÉBIL",IF(S29<96,"MODERADO","FUERTE")) -> FUERTE | V29: MODERADO | W29: =VLOOKUP(T29,REFERENCIAS!$R$12:$S$20,2,FALSE) -> 50 | X29: =IF(W29=100,"NO","SI") -> SI
B30: 5 | C30: Ocultación o adulteración del sistema de información y/o filtración de información confidencial G Sistemas de información G bienes y servicios (contratación) G talento humano G Jurídica G procesos disciplinarios | D30: CORRUPCIÓN | E30: Debilidad en la actualización del sistema en la parametrización de los perfiles según el rol a desempeñar (seguridad y privacidad) | F30: Responsabilidad patrimonial de la institución por demandas judiciales y/o sanciones de organismos de vigilancia y control | G30: 2 | H30: 4 | I30: =CONCATENATE(G30,H30) -> 24 | J30: =VLOOKUP(I30,REFERENCIAS!$L$12:$M$36,2,FALSE) -> Alto | K30: Aplicación del Manual de gestión de usuarios para la asignación de roles y privilegios | L30: 15 | M30: 15 | N30: 15 | O30: 15 | P30: 15 | Q30: 15 | R30: 10 | S30: =SUM(L30:R30) -> 100 | T30: =CONCATENATE(U30,V30) -> FUERTEFUERTE | U30: =IF(S30<86,"DÉBIL",IF(S30<96,"MODERADO","FUERTE")) -> FUERTE | V30: FUERTE | W30: =VLOOKUP(T30,REFERENCIAS!$R$12:$S$20,2,FALSE) -> 100 | X30: =IF(W30=100,"NO","SI") -> NO | Y30: =IF(AVERAGE(W30:W33)<50,"DÉBIL",IF(AVERAGE(W30:W33)<100,"MODERADO","FUERTE")) -> MODERADO | Z30: DIRECTAMENTE | AA30: INDIRECTAMENTE | AB30: =CONCATENATE(Y30,Z30,AA30) -> MODERADODIRECTAMENTEINDIRECTAMENTE | AC30: =VLOOKUP(AB30,REFERENCIAS!$X$11:$Z$19,2,FALSE) -> 1 | AD30: =VLOOKUP(AB30,REFERENCIAS!$X$11:$Z$19,3,FALSE) -> 0 | AE30: =IF(G30-AC30<1,1,G30-AC30) -> 1 | AF30: =IF(H30-AD30<1,1,H30-AD30) -> 4 | AG30: =CONCATENATE(AE30,AF30) -> 14 | AH30: =VLOOKUP(AG30,REFERENCIAS!$L$12:$M$36,2,FALSE) -> Alto | AI30: EVITAR
E31: No contar o no utilizar los medios de almacenamiento, seguro de la informacion en medio físico | F31: Deterioro de la imagen institucional | K31: Acceso restringido a los espacios fisicos de almacenamiento de documentos | L31: 15 | M31: 15 | N31: 15 | O31: 15 | P31: 0 | Q31: 0 | R31: 10 | S31: =SUM(L31:R31) -> 70 | T31: =CONCATENATE(U31,V31) -> DÉBILMODERADO | U31: =IF(S31<86,"DÉBIL",IF(S31<96,"MODERADO","FUERTE")) -> DÉBIL | V31: MODERADO | W31: =VLOOKUP(T31,REFERENCIAS!$R$12:$S$20,2,FALSE) -> 0 | X31: =IF(W31=100,"NO","SI") -> SI
E32: No adherencia a las políticas institucionales para el manejo seguro de la información. | F32: Ineficiencia administrativa. | K32: Log (registro)de transacciones en el sistema de información | L32: 15 | M32: 15 | N32: 15 | O32: 15 | P32: 15 | Q32: 15 | R32: 10 | S32: =SUM(L32:R32) -> 100 | T32: =CONCATENATE(U32,V32) -> FUERTEFUERTE | U32: =IF(S32<86,"DÉBIL",IF(S32<96,"MODERADO","FUERTE")) -> FUERTE | V32: FUERTE | W32: =VLOOKUP(T32,REFERENCIAS!$R$12:$S$20,2,FALSE) -> 100 | X32: =IF(W32=100,"NO","SI") -> NO
E33: Concentracion de poder en el conocimiento y manejo de la informacion específica de un proceso. | F33: Investigaciones y/o sanciones disciplinarias, fiscales y/o penales a los funcionarios | K33: Validación por parte de los Jefes responsables de los procesos, de los productos generados en cada uno. | L33: 15 | M33: 15 | N33: 15 | O33: 15 | P33: 15 | Q33: 15 | R33: 10 | S33: =SUM(L33:R33) -> 100 | T33: =CONCATENATE(U33,V33) -> FUERTEMODERADO | U33: =IF(S33<86,"DÉBIL",IF(S33<96,"MODERADO","FUERTE")) -> FUERTE | V33: MODERADO | W33: =VLOOKUP(T33,REFERENCIAS!$R$12:$S$20,2,FALSE) -> 50 | X33: =IF(W33=100,"NO","SI") -> SI
B34: 6 | C34: Manipulación del proceso definido en la normatividad externa e interna, a favor de un tercero, en relación con procesos disciplinarios, contratación de bienes y servicios, ingreso de persona y financiero, entre otros. G Sistemas de información G bienes y servicios (contratación) G talento humano G Jurídica G procesos disciplinarios | D34: CORRUPCIÓN | E34: Direccionar las especificaciones técnicas para favorecer a terceros sin la debida justificación y lleno de requisitos definidos en el estatuo de contratación | F34: Responsabilidad patrimonial de la institución por demandas judiciales y/o sanciones de organismos de vigilancia y control | G34: 2 | H34: 4 | I34: =CONCATENATE(G34,H34) -> 24 | J34: =VLOOKUP(I34,REFERENCIAS!$L$12:$M$36,2,FALSE) -> Alto | K34: Aplicación del Manual de Contratación en todos los procesos de contratación de bienes y servicios. | L34: 15 | M34: 15 | N34: 15 | O34: 15 | P34: 15 | Q34: 15 | R34: 10 | S34: =SUM(L34:R34) -> 100 | T34: =CONCATENATE(U34,V34) -> FUERTEFUERTE | U34: =IF(S34<86,"DÉBIL",IF(S34<96,"MODERADO","FUERTE")) -> FUERTE | V34: FUERTE | W34: =VLOOKUP(T34,REFERENCIAS!$R$12:$S$20,2,FALSE) -> 100 | X34: =IF(W34=100,"NO","SI") -> NO | Y34: =IF(AVERAGE(W34:W41)<50,"DÉBIL",IF(AVERAGE(W34:W41)<100,"MODERADO","FUERTE")) -> MODERADO | Z34: DIRECTAMENTE | AA34: INDIRECTAMENTE | AB34: =CONCATENATE(Y34,Z34,AA34) -> MODERADODIRECTAMENTEINDIRECTAMENTE | AC34: =VLOOKUP(AB34,REFERENCIAS!$X$11:$Z$19,2,FALSE) -> 1 | AD34: =VLOOKUP(AB34,REFERENCIAS!$X$11:$Z$19,3,FALSE) -> 0 | AE34: =IF(G34-AC34<1,1,G34-AC34) -> 1 | AF34: =IF(H34-AD34<1,1,H34-AD34) -> 4 | AG34: =CONCATENATE(AE34,AF34) -> 14 | AH34: =VLOOKUP(AG34,REFERENCIAS!$L$12:$M$36,2,FALSE) -> Alto | AI34: EVITAR
E35: Fallas en la de supervision de contratos (No adherencia deliberada al manual de supervisión) | F35: Deterioro de la imagen institucional | K35: Aplicación del Manual de Supervisiòn en todos los procesos de contratación de bienes y servicios. | L35: 15 | M35: 15 | N35: 15 | O35: 15 | P35: 15 | Q35: 15 | R35: 10 | S35: =SUM(L35:R35) -> 100 | T35: =CONCATENATE(U35,V35) -> FUERTEMODERADO | U35: =IF(S35<86,"DÉBIL",IF(S35<96,"MODERADO","FUERTE")) -> FUERTE | V35: MODERADO | W35: =VLOOKUP(T35,REFERENCIAS!$R$12:$S$20,2,FALSE) -> 50 | X35: =IF(W35=100,"NO","SI") -> SI
E36: Proceso de ingreso otros tipos de nombramiento y contratistas, direccionados y sin rigor metodológico en pruebas de conocimiento y actitudinales, entrevistas, verificación de hoja de vida y requisitos para el cargo | F36: Ineficiencia administrativa. | K36: Verificar que el candidato cumpla el perfil exigido. En caso de presentarse diferencias solicite revisión por el Auxiliar Administrativo. (contratistas) pr ingreso otros tipos | L36: 15 | M36: 15 | N36: 15 | O36: 15 | P36: 15 | Q36: 15 | R36: 10 | S36: =SUM(L36:R36) -> 100 | T36: =CONCATENATE(U36,V36) -> FUERTEFUERTE | U36: =IF(S36<86,"DÉBIL",IF(S36<96,"MODERADO","FUERTE")) -> FUERTE | V36: FUERTE | W36: =VLOOKUP(T36,REFERENCIAS!$R$12:$S$20,2,FALSE) -> 100 | X36: =IF(W36=100,"NO","SI") -> NO
E37: Controles deficientes al interior de cada proceso que generan decisiones autónomas en los servidores | F37: Sanciones disciplinarias, fiscales y/o penales a los servidores | K37: Validación por parte de los Jefes responsables de los procesos, de los productos generados en cada uno. | L37: 15 | M37: 15 | N37: 15 | O37: 15 | P37: 15 | Q37: 15 | R37: 10 | S37: =SUM(L37:R37) -> 100 | T37: =CONCATENATE(U37,V37) -> MODERADOMODERADO | U37: MODERADO | V37: MODERADO | W37: =VLOOKUP(T37,REFERENCIAS!$R$12:$S$20,2,FALSE) -> 50 | X37: =IF(W37=100,"NO","SI") -> SI
E38: Insuficiente apropiación de una cultura organizacional centrada en la transparencia y la anticorrupción | K38: Despliegue, conocimiento y apropiación del Código de Integridad | L38: 15 | M38: 15 | N38: 15 | O38: 15 | P38: 15 | Q38: 15 | R38: 10 | S38: =SUM(L38:R38) -> 100 | T38: =CONCATENATE(U38,V38) -> FUERTEFUERTE | U38: =IF(S38<86,"DÉBIL",IF(S38<96,"MODERADO","FUERTE")) -> FUERTE | V38: FUERTE | W38: =VLOOKUP(T38,REFERENCIAS!$R$12:$S$20,2,FALSE) -> 100 | X38: =IF(W38=100,"NO","SI") -> NO
E39: No notificar adecuadamente u omitir la decisión de indagación preliminar y de investigación disciplinaria | K39: 7. Revisar para cada providencia notificable que la notificación se haya surtido en términos de ley, y que repose en copia digital, en caso contrario verificar que la auxiliar administrativa repita el proceso, hasta que se realice satisfactoriamente. Pr tramite procesal | L39: 15 | M39: 15 | N39: 15 | O39: 15 | P39: 15 | Q39: 0 | R39: 10 | S39: =SUM(L39:R39) -> 85 | T39: =CONCATENATE(U39,V39) -> DÉBILDÉBIL | U39: =IF(S39<86,"DÉBIL",IF(S39<96,"MODERADO","FUERTE")) -> DÉBIL | V39: DÉBIL | W39: =VLOOKUP(T39,REFERENCIAS!$R$12:$S$20,2,FALSE) -> 0 | X39: =IF(W39=100,"NO","SI") -> SI
E40: Falta de incorporción de correspondencia o piezas procesales al expediente | K40: 11. Verificar cada vez que se allegue nueva documentación al expediente que se haya archivado según la instrucción anterior, en caso contrario, verificar que la auxiliar administrativa repita el proceso, hasta que se realice satisfactoriamente. Pr tramite procesal | L40: 15 | M40: 15 | N40: 15 | O40: 15 | P40: 15 | Q40: 0 | R40: 10 | S40: =SUM(L40:R40) -> 85 | T40: =CONCATENATE(U40,V40) -> DÉBILDÉBIL | U40: =IF(S40<86,"DÉBIL",IF(S40<96,"MODERADO","FUERTE")) -> DÉBIL | V40: DÉBIL | W40: =VLOOKUP(T40,REFERENCIAS!$R$12:$S$20,2,FALSE) -> 0 | X40: =IF(W40=100,"NO","SI") -> SI
E41: No notificarse oportunamente de las actuaciones y decisiones judiciales u omitir aportar material probatorio deliberadamente a los procesos | K41: Seguimiento al buzón electrónico de notificaciones judiciales y trazabilidad en las pruebas aportadas. Of. Asesora Jurídica | L41: 15 | M41: 15 | N41: 15 | O41: 15 | P41: 15 | Q41: 15 | R41: 10 | S41: =SUM(L41:R41) -> 100 | T41: =CONCATENATE(U41,V41) -> FUERTEFUERTE | U41: =IF(S41<86,"DÉBIL",IF(S41<96,"MODERADO","FUERTE")) -> FUERTE | V41: FUERTE | W41: =VLOOKUP(T41,REFERENCIAS!$R$12:$S$20,2,FALSE) -> 100 | X41: =IF(W41=100,"NO","SI") -> NO
...

Sheet RIESGOS CORRUP 2026 ESE CALDAS
A1: ESE HOSPÍTAL SAN VICENTE DE PAUL DE CALDAS - ANTIOQUIA
A2: MATRIZ RIESGOS CORRUPCIÓN 2026
A3: PROCESO | B3: CÓDIGO | C3: IDENTIFICACIÓN DE RIESGOS | H3: RIESGO INHERENTE | L3: CONTROLES EXISTENTES (BARRERAS) | M3: DISEÑO DEL CONTROL | W3: EJECUCIÓN DEL CONTROL | X3: RESULTADO DE EVALUACIÓN DE CONTROLES | AF3: CALIFICACIÓN DEL RIESGO DESPUÉS DE CONTROLES | AI3: RIESGO RESIDUAL
C4: RIESGO - DESCRIPCIÓN | D4: TIPO DE RIESGO | E4: CAUSAS INMEDIATA | F4: CAUSA RAIZ | G4: ¿QUÉ? IMPACTO | H4: PROBABILIDAD | I4: IMPACTO | J4: NIVEL DE RIESGO | K4: ZONA DE RIESGO | M4: ASIGNACIÓN DE RESPONSABLE PARA LA EJECUCIÓN DEL CONTROL | N4: SEGREGACIÓN Y AUTORIDAD DEL RESPONSABLE | O4: PERIODICIDAD EN LA EJECUCIÓN | P4: PROPÓSITO DEL CONTROL (DETECTIVO O PREVENTIVO) | Q4: COMO SE REALIZA LA ACTIVIDAD DE CONTROL | R4: QUE PASA CON LAS OBSERVACIONES O DESVIACIONES | S4: EVIDENCIA DE LA EJECUCIÓN DEL CONTROL | T4: SUMATORIA DISEÑO | U4: RESULTADO EVALUACIÓN DEL CONTROL | V4: PESO DEL R/ DISEÑO DEL CONTROL | W4: CALIFICACIÓN DE LA EJECUCIÓN DEL CONTROL FUERTE 100 CONSISTENTE MODERADO: 50 ALGUNAS VECES DÉBIL 0 NO SE EJECUTA | X4: SOLIDEZ INDIVIDUAL DEL CONTROL | Y4: REQUIERE ACCIONES DE MEJORA | Z4: SOLIDEZ DEL CONJUNTO DE CONTROLES FUERTE 100 MODERADO 50 A 99 DEBIL MENOR A 50 | AA4: DISMINUYE PROBABILIDAD SI LA SOLIDEZ DE CONJUNTO ES DEBIL NO DOSIMINUYE | AB4: DISMINUYE IMPACTO SI LA SOLIDEZ DE CONJUNTO ES DEBIL NO DOSIMINUYE | AD4: DESPLAZAMIENTO EN EJE DE PROBABILIDAD | AE4: DESPLAZAMIENTO EN EJE DE IMPACTO | AF4: PROBABILIDAD | AG4: IMPACTO | AJ4: OPCIÓN DE MANEJO | AK4: ACCION DE MEJORA | AL4: SEGUIMIENTO-AVANCE
A5: • Gestión financiera • Gestión jurídica (contratación y supervisión de contratos) | B5: 1 | C5: Posibilidad de recibir o solicitar cualquier dádiva o beneficio a nombre propio o de terceros para afectar las liquidaciones de pagos o registrar dineros que no han ingresado a las cuentas bancarias, con el fin de beneficiar a un responsable del pago de los mismos. | D5: CORRUPCIÓN | E5: • Por Influencia de terceros en la actuación del personal responsable del proceso | F5: A causa de falta de trasparencia | G5: Económico | H5: 3 | I5: 5 | J5: =CONCATENATE(H5,I5) -> 35 | K5: =VLOOKUP(J5,REFERENCIAS!$L$12:$M$36,2,FALSE) -> Extremo | L5: • Revisa las facturas con sus soportes y clasifica por proveedor (Carpeta por proveedor); cuando detecte errores o falta de soportes devuelve a contabilidad. | M5: 15 | N5: 15 | O5: 15 | P5: 10 | Q5: 15 | R5: 15 | S5: 10 | T5: =SUM(M5:S5) -> 95 | U5: =CONCATENATE(V5,W5) -> MODERADOFUERTE | V5: =IF(T5<86,"DÉBIL",IF(T5<96,"MODERADO","FUERTE")) -> MODERADO | W5: FUERTE | X5: =VLOOKUP(U5,REFERENCIAS!$R$12:$S$20,2,FALSE) -> 50 | Y5: =IF(X5=100,"NO","SI") -> SI | Z5: =IF(AVERAGE(X5:X11)<50,"DÉBIL",IF(AVERAGE(X5:X11)<100,"MODERADO","FUERTE")) -> DÉBIL | AA5: NO DISMINUYE | AB5: NO DISMINUYE | AC5: =CONCATENATE(Z5,AA5,AB5) -> DÉBILNO DISMINUYENO DISMINUYE | AD5: =VLOOKUP(AC5,REFERENCIAS!$X$11:$Z$19,2,FALSE) -> 0 | AE5: =VLOOKUP(AC5,REFERENCIAS!$X$11:$Z$19,3,FALSE) -> 0 | AF5: =IF(H5-AD5<1,1,H5-AD5) -> 3 | AG5: =IF(I5-AE5<1,1,I5-AE5) -> 5 | AH5: =CONCATENATE(AF5,AG5) -> 35 | AI5: =VLOOKUP(AH5,REFERENCIAS!$L$12:$M$36,2,FALSE) -> Extremo | AJ5: EVITAR | AK5: • Actualizar el procedimiento de pagos con el control de verificar la causación por parte del tesorero en el software. | AL5: • Se programa actualización para el 2026.
E6: Posible manipulación de la información del aplicativo de cartera en la conciliación de glosas con entidades | F6: Debido a la falta de auditorias | G6: Economico y Reputacional | L6: • Autorizar conciliación de cartera en el tema de glosas con entidades desde Gerencia. | M6: 0 | N6: 0 | O6: 0 | P6: 0 | Q6: 0 | R6: 0 | S6: 10 | T6: =SUM(M6:S6) -> 10 | U6: =CONCATENATE(V6,W6) -> DÉBILFUERTE | V6: =IF(T6<86,"DÉBIL",IF(T6<96,"MODERADO","FUERTE")) -> DÉBIL | W6: FUERTE | X6: =VLOOKUP(U6,REFERENCIAS!$R$12:$S$20,2,FALSE) -> 0 | Y6: =IF(X6=100,"NO","SI") -> SI | AK6: • Actualizar el control en el procedimiento de cartera. | AL6: • Se programa actualización para el 2026.
L7: • Realizar conciliación mensual entre contabilidad y facturación de valores facturado mes, notas crédito y notas debito en el formato definido por la entidad. En caso de inconsistencia contabilidad reporta a facturación para el ajuste y anulación. | M7: 15 | N7: 15 | O7: 15 | P7: 10 | Q7: 15 | R7: 15 | S7: 5 | T7: =SUM(M7:S7) -> 90 | U7: =CONCATENATE(V7,W7) -> MODERADOMODERADO | V7: =IF(T7<86,"DÉBIL",IF(T7<96,"MODERADO","FUERTE")) -> MODERADO | W7: MODERADO | X7: =VLOOKUP(U7,REFERENCIAS!$R$12:$S$20,2,FALSE) -> 50 | Y7: =IF(X7=100,"NO","SI") -> SI | AK7: • Ajustar procedimientos con este control. | AL7: Pendiente ajustar procedimiento de conciliación durante el año 2026
L8: • Realizar conciliación mensual con contabilidad módulo de cartera de saldos, por terceros, cuentas contables y por régimen, en el formato definido por la entidad. Adicionalmente fuente de recibos de caja. En caso de inconsistencias contabilidad reporta al responsable de la inconsistencia (facturación y cartera). | M8: 15 | N8: 15 | O8: 15 | P8: 10 | Q8: 15 | R8: 15 | S8: 5 | T8: =SUM(M8:S8) -> 90 | U8: =CONCATENATE(V8,W8) -> MODERADOMODERADO | V8: =IF(T8<86,"DÉBIL",IF(T8<96,"MODERADO","FUERTE")) -> MODERADO | W8: MODERADO | X8: =VLOOKUP(U8,REFERENCIAS!$R$12:$S$20,2,FALSE) -> 50 | Y8: =IF(X8=100,"NO","SI") -> SI | AK8: • Ajustar procedimientos con este control. | AL8: • Se está trabajando en el ajuste y se programa para el 2026.
L9: • Verificar que la nota crédito coincida con la conciliación y con la glosa. En caso de inconsistencias informar a la Subgerencia Administrativa y Gerencia para el respectivo ajuste. | M9: 0 | N9: 0 | O9: 0 | P9: 0 | Q9: 0 | R9: 0 | S9: 10 | T9: =SUM(M9:S9) -> 10 | U9: =CONCATENATE(V9,W9) -> DÉBILFUERTE | V9: =IF(T9<86,"DÉBIL",IF(T9<96,"MODERADO","FUERTE")) -> DÉBIL | W9: FUERTE | X9: =VLOOKUP(U9,REFERENCIAS!$R$12:$S$20,2,FALSE) -> 0 | Y9: =IF(X9=100,"NO","SI") -> SI | AK9: • Elaborar procedimiento de conciliación con este control e incluir la aprobación del comité de conciliación. • Parametrizar los permisos en el software para los módulos de cartera. (Radicación por cartera vs notas créditos de facturas lo hace cuentas medicas). | AL9: • Se está trabajando en el documento del procedimiento de conciliación con este control y luego pasara a la aprobación del comité de conciliación.
E10: Debilidades en la definición de controles en el procedimiento de pagos. | F10: debido a la rotación del personal | G10: Económico | L10: • Realizar conciliaciones bancarias mensuales sin pendientes, acorde con el procedimiento y en el formato definido por la entidad. | M10: 15 | N10: 15 | O10: 15 | P10: 10 | Q10: 15 | R10: 15 | S10: 10 | T10: =SUM(M10:S10) -> 95 | U10: =CONCATENATE(V10,W10) -> MODERADOFUERTE | V10: =IF(T10<86,"DÉBIL",IF(T10<96,"MODERADO","FUERTE")) -> MODERADO | W10: FUERTE | X10: =VLOOKUP(U10,REFERENCIAS!$R$12:$S$20,2,FALSE) -> 50 | Y10: =IF(X10=100,"NO","SI") -> SI | AK10: • Ajustar procedimientos. | AL10: • Pendiente elaborar procedimiento de conciliación bancarias.
E11: Debilidades en el diligenciamiento del aval y soportes anexos, para el pago de las facturas presentadas por proveedores | F11: debido a la falta de capacitaciones del personal | G11: Económico | L11: • Realiza la priorización de cuentas por pagar; teniendo en cuenta el “Informe de cuentas por pagar con priorización de pagos” y las políticas adoptadas por la ESE para el pago a proveedores. Esta priorización se debe comunicar al área de tesorería. Ajuste: Verificar que los pagos se hayan realizado acorde con la priorización definida | M11: 15 | N11: 15 | O11: 15 | P11: 10 | Q11: 15 | R11: 15 | S11: 0 | T11: =SUM(M11:S11) -> 85 | U11: =CONCATENATE(V11,W11) -> DÉBILFUERTE | V11: =IF(T11<86,"DÉBIL",IF(T11<96,"MODERADO","FUERTE")) -> DÉBIL | W11: FUERTE | X11: =VLOOKUP(U11,REFERENCIAS!$R$12:$S$20,2,FALSE) -> 0 | Y11: =IF(X11=100,"NO","SI") -> SI | AK11: • Ajustar procedimiento pagos y que tenga un control de verificación de pagos vs priorización. • Documentar la priorización como se hace | AL11: • Pendiente para el 2026 ajustar procedimiento pagos y que tenga un control de verificación de pagos vs priorización.
A12: Gestión De Las Comunicaciones | B12: 2 | C12: Falta de veracidad o inexactitud en la información con destino a los grupos de interés, para beneficio de un tercero. | D12: OPACIDAD | E12: Falta de control y seguimiento a cada una de las tipologías de las publicaciones con destino a los grupos de interés. Falta de controles previos de la información por parte de las dependencias. | F12: Debido a la falta de procedimientos documentados dentro de la E.S.E | G12: Reputacional | H12: 1 | I12: 4 | J12: =CONCATENATE(H12,I12) -> 14 | K12: =VLOOKUP(J12,REFERENCIAS!$L$12:$M$36,2,FALSE) -> Alto | L12: • Revisión de las piezas comunicativas de publicación con los respectivos avales de las dependencias involucradas. | M12: 15 | N12: 15 | O12: 15 | P12: 15 | Q12: 15 | R12: 15 | S12: 10 | T12: =SUM(M12:S12) -> 100 | U12: =CONCATENATE(V12,W12) -> FUERTEFUERTE | V12: =IF(T12<86,"DÉBIL",IF(T12<96,"MODERADO","FUERTE")) -> FUERTE | W12: FUERTE | X12: =VLOOKUP(U12,REFERENCIAS!$R$12:$S$20,2,FALSE) -> 100 | Y12: =IF(X12=100,"NO","SI") -> NO | Z12: =IF(AVERAGE(X12:X13)<50,"DÉBIL",IF(AVERAGE(X12:X13)<100,"MODERADO","FUERTE")) -> FUERTE | AA12: DIRECTAMENTE | AB12: DIRECTAMENTE | AC12: =CONCATENATE(Z12,AA12,AB12) -> FUERTEDIRECTAMENTEDIRECTAMENTE | AD12: =VLOOKUP(AC12,REFERENCIAS!$X$11:$Z$19,2,FALSE) -> 2 | AE12: =VLOOKUP(AC12,REFERENCIAS!$X$11:$Z$19,3,FALSE) -> 2 | AF12: =IF(H12-AD12<1,1,H12-AD12) -> 1 | AG12: =IF(I12-AE12<1,1,I12-AE12) -> 2 | AH12: =CONCATENATE(AF12,AG12) -> 12 | AI12: =VLOOKUP(AH12,REFERENCIAS!$L$12:$M$36,2,FALSE) -> Bajo | AJ12: EVITAR | AK12: • Se creó el procedimiento de solicitud de comunicación. | AL12: • Se socializo el procedimiento con los funcionarios y se continuara durante la vigencia 2026.
E13: Ausencia de procesos y procedimientos actualizados | F13: A causa de la rotación del personal | G13: Reputacional | L13: • Definición del procedimiento con sus respectivos controles, en relación con la comunicación organizacional. | M13: 15 | N13: 15 | O13: 15 | P13: 15 | Q13: 15 | R13: 15 | S13: 10 | T13: =SUM(M13:S13) -> 100 | U13: =CONCATENATE(V13,W13) -> FUERTEFUERTE | V13: =IF(T13<86,"DÉBIL",IF(T13<96,"MODERADO","FUERTE")) -> FUERTE | W13: FUERTE | X13: =VLOOKUP(U13,REFERENCIAS!$R$12:$S$20,2,FALSE) -> 100 | Y13: =IF(X13=100,"NO","SI") -> NO | AK13: • Se creó el documento manual de identidad de identidad grafica. | AL13: • Se actualizo y socializo el procedimiento con los funcionarios y se continuara durante la vigencia 2026.
A14: Gestión Gobierno Digital Y Tic´S (gestión Documental) | B14: 3 | C14: Posibilidad de recibir o solicitar cualquier dádiva o beneficio a nombre propio o de terceros al manipular/incluir/extraer documentos a cualquier expediente en custodia del archivo. | D14: CORRUPCIÓN | E14: Omisión de los procedimientos definidos para la consulta de los documentos | F14: Debido a la falta de controles | G14: Economico y Reputacional | H14: 2 | I14: 5 | J14: =CONCATENATE(H14,I14) -> 25 | K14: =VLOOKUP(J14,REFERENCIAS!$L$12:$M$36,2,FALSE) -> Extremo | L14: • Restricción de entrada al archivo del personal que no está autorizado. • Política de operación | M14: 15 | N14: 15 | O14: 15 | P14: 10 | Q14: 15 | R14: 0 | S14: 10 | T14: =SUM(M14:S14) -> 80 | U14: =CONCATENATE(V14,W14) -> DÉBILDÉBIL | V14: =IF(T14<86,"DÉBIL",IF(T14<96,"MODERADO","FUERTE")) -> DÉBIL | W14: DÉBIL | X14: =VLOOKUP(U14,REFERENCIAS!$R$12:$S$20,2,FALSE) -> 0 | Y14: =IF(X14=100,"NO","SI") -> SI | Z14: =IF(AVERAGE(X14:X17)<50,"DÉBIL",IF(AVERAGE(X14:X17)<100,"MODERADO","FUERTE")) -> DÉBIL | AA14: NO DISMINUYE | AB14: NO DISMINUYE | AC14: =CONCATENATE(Z14,AA14,AB14) -> DÉBILNO DISMINUYENO DISMINUYE | AD14: =VLOOKUP(AC14,REFERENCIAS!$X$11:$Z$19,2,FALSE) -> 0 | AE14: =VLOOKUP(AC14,REFERENCIAS!$X$11:$Z$19,3,FALSE) -> 0 | AF14: =IF(H14-AD14<1,1,H14-AD14) -> 2 | AG14: =IF(I14-AE14<1,1,I14-AE14) -> 5 | AH14: =CONCATENATE(AF14,AG14) -> 25 | AI14: =VLOOKUP(AH14,REFERENCIAS!$L$12:$M$36,2,FALSE) -> Extremo | AJ14: EVITAR | AK14: • Actualización PGD. | AL14: • Se realizo invitación publica en 2026 para la contratación integral del proceso de gestión documental y SGDA(sistema de gestión documental electrónica de archivos) ya que este contiene todos los instrumentos archivísticos.
L15: • Realizar una doble verificación en el proceso de contestación. • Pr Administración de Correspondencia, (incluye el aplicativo institucional) | M15: 15 | N15: 0 | O15: 15 | P15: 10 | Q15: 15 | R15: 0 | S15: 0 | T15: =SUM(M15:S15) -> 55 | U15: =CONCATENATE(V15,W15) -> DÉBILMODERADO | V15: =IF(T15<86,"DÉBIL",IF(T15<96,"MODERADO","FUERTE")) -> DÉBIL | W15: MODERADO | X15: =VLOOKUP(U15,REFERENCIAS!$R$12:$S$20,2,FALSE) -> 0 | Y15: =IF(X15=100,"NO","SI") -> SI | AK15: • Incluir control en el procedimiento de archivo administrativo el control de restricción. • Ajustar en clínico y administrativo, describiendo que hacer en caso de un ingreso no autorizado. | AL15: • Continua pendiente actualización del procedimiento, que incluya el control de ingreso para archivo clínico y administrativo y que hacer en caso que se materialice.
L16: • Aplicación del formato de entrega de documentos al interior. | M16: 15 | N16: 15 | O16: 15 | P16: 10 | Q16: 15 | R16: 0 | S16: 10 | T16: =SUM(M16:S16) -> 80 | U16: =CONCATENATE(V16,W16) -> DÉBILMODERADO | V16: =IF(T16<86,"DÉBIL",IF(T16<96,"MODERADO","FUERTE")) -> DÉBIL | W16: MODERADO | X16: =VLOOKUP(U16,REFERENCIAS!$R$12:$S$20,2,FALSE) -> 0 | Y16: =IF(X16=100,"NO","SI") -> SI | AK16: • Ajustar el control con los criterios que faltan, mejorar segregación, oportunidad, que pasa con las observaciones, que evidencia queda | AL16: • Se realizo invitación publica en 2026 para la contratación integral del proceso de gestión documental y SGDA(sistema de gestión documental electrónica de archivos) ya que este contiene todos los instrumentos archivísticos.
